BEGIN:VCALENDAR
VERSION:2.0
PRODID:-//French a la Carte - ECPv5.0.0.2//NONSGML v1.0//EN
CALSCALE:GREGORIAN
METHOD:PUBLISH
X-WR-CALNAME:French a la Carte
X-ORIGINAL-URL:https://www.frenchalacarte.com.au
X-WR-CALDESC:Events for French a la Carte
BEGIN:VTIMEZONE
TZID:Australia/Sydney
BEGIN:STANDARD
TZOFFSETFROM:+1100
TZOFFSETTO:+1000
TZNAME:AEST
DTSTART:20200404T160000
END:STANDARD
BEGIN:DAYLIGHT
TZOFFSETFROM:+1000
TZOFFSETTO:+1100
TZNAME:AEDT
DTSTART:20201003T160000
END:DAYLIGHT
END:VTIMEZONE
BEGIN:VEVENT
DTSTART;VALUE=DATE:20200128
DTEND;VALUE=DATE:20200201
DTSTAMP:20200229T125904
CREATED:20190826T064521Z
LAST-MODIFIED:20200124T035909Z
UID:14659-1580169600-1580515199@www.frenchalacarte.com.au
SUMMARY:January 2020 holiday workshops
DESCRIPTION:These are refresher workshops that will get your French brain active for the new year. Also open to non-registered students\, however\, bookings are essential. \nThere are 2 types of workshops on offer\, all-day refreshers by level (Elementary\, Pre-Intermediate\, Intermediate and Advanced) as well as half-day themed interactive workshops. \nAll-day Refresher workshops:\n\nPre-Intermediate Refresher – Tuesday 28 January 2020\nElementary Refresher – Wednesday 29 January 2020\nIntermediate Refresher – Thursday 30 January 2020 – SOLD OUT\nAdvanced Refresher – Friday 31 January 2020\n\nHalf-day themed workshops:\n\nPronunciation: Basic French Sounds – Tuesday 28 January 2020\, 9:30am – 12:30pm\nPronunciation: Advanced Sounds – Tuesday 28 January 2020\, 1:30 – 4:30pm\nComprehension of Spoken French– Wednesday 29 January 2020\, 1:30 – 4:30pm\nSubjunctive from A to Z – Thursday 30 January 2020\, 9:30am – 12:30pm\n\nBenefits:\n\nRevise your French after the summer break\nHave fun\nEase back into French study mode\n\n  \n
URL:https://www.frenchalacarte.com.au/event/january-2020-holiday-workshops/
LOCATION:Pymble Golf Club\, Cowan Road\, St Ives\, NSW\, 2075\, Australia
CATEGORIES:Holiday Workshops
ATTACH;FMTTYPE=image/jpeg:https://www.frenchalacarte.com.au/wp-content/uploads/revslider/2cv-and-events1/book-2875123__340.jpg
ORGANIZER;CN="French%20%C3%A0%20la%20Carte":MAILTO:info@frenchalacarte.com.au
GEO:-33.7287101;151.1572727
X-APPLE-STRUCTURED-LOCATION;VALUE=URI;X-ADDRESS=Pymble Golf Club Cowan Road St Ives NSW 2075 Australia;X-APPLE-RADIUS=500;X-TITLE=Cowan Road:geo:151.1572727,-33.7287101
END:VEVENT
BEGIN:VEVENT
DTSTART;TZID=Australia/Sydney:20200128T093000
DTEND;TZID=Australia/Sydney:20200128T123000
DTSTAMP:20200229T125904
CREATED:20181107T024110Z
LAST-MODIFIED:20200117T073357Z
UID:11049-1580203800-1580214600@www.frenchalacarte.com.au
SUMMARY:Pronunciation - Basic French Sounds
DESCRIPTION:When learning a foreign language\, speaking it well should be your aim.  \nGrammar and vocabulary are important\, but you also need to know how to correctly pronounce the words\, so you are well understood. This also helps your comprehension.  \nThis workshop is essential for anyone who finds French sounds tricky: vowels\, nasal sounds and accents.  \n\nPrice: $60\, including handouts.\nLevels: Lower-Intermediate & Intermediate.\nMinimum 8\, maximum 12 students per class.\nBookings essential\n\n
URL:https://www.frenchalacarte.com.au/event/pronunciation-french-sounds/
LOCATION:Pymble Golf Club – Boardroom\, 10 Cowan Rd\, St. Ives\, NSW\, 2075\, Australia
CATEGORIES:Holiday Workshops,Themed
ATTACH;FMTTYPE=image/png:https://www.frenchalacarte.com.au/wp-content/uploads/2018/11/prononciation-francaise.png
GEO:-33.7304185;151.156397
X-APPLE-STRUCTURED-LOCATION;VALUE=URI;X-ADDRESS=Pymble Golf Club – Boardroom 10 Cowan Rd St. Ives NSW 2075 Australia;X-APPLE-RADIUS=500;X-TITLE=10 Cowan Rd:geo:151.156397,-33.7304185
END:VEVENT
BEGIN:VEVENT
DTSTART;TZID=Australia/Sydney:20200128T093000
DTEND;TZID=Australia/Sydney:20200128T163000
DTSTAMP:20200229T125904
CREATED:20181110T041136Z
LAST-MODIFIED:20200117T073307Z
UID:11045-1580203800-1580229000@www.frenchalacarte.com.au
SUMMARY:Pre-Intermediate Refresher
DESCRIPTION:This workshop consists of a variety of practical activities designed specifically for your level.  \nYou will be working in small groups at your own pace with the help of a tailor-made workbook and under direct supervision of a qualified teacher.  \nThe teacher will give each group individual attention\, while coordinating the activities and providing explanations.  \nMinimum 10\, maximum 16 students per class. \nPrice:  $149 \nWhat’s included: \n\nCoffee break in the morning with a hot drink supplied by the Pymble Golf Club\n1-hour lunch break with a light meal supplied by the club\nTailored workbook\nA French à la Carte notepad and pen\n\n
URL:https://www.frenchalacarte.com.au/event/pre-intermediate-refresher/
LOCATION:Pymble Golf Club – Kel Nagle Room\, Australia
CATEGORIES:Holiday Workshops,Refreshers
ATTACH;FMTTYPE=image/png:https://www.frenchalacarte.com.au/wp-content/uploads/2018/11/pre-intermediary.png
END:VEVENT
BEGIN:VEVENT
DTSTART;TZID=Australia/Sydney:20200128T133000
DTEND;TZID=Australia/Sydney:20200128T163000
DTSTAMP:20200229T125904
CREATED:20181110T042002Z
LAST-MODIFIED:20200117T073219Z
UID:11051-1580218200-1580229000@www.frenchalacarte.com.au
SUMMARY:Pronunciation - Advanced Sounds/Rhythm of French
DESCRIPTION:Learn how to sound more French and better understand native speakers: rhythm groups\, “liaisons et enchaînements” and syllable stress\, plenty of practise included.  \n\nPrice: $60\, including handouts.\nLevels: Intermediate to Advanced.\nMinimum 8\, maximum 12 students per class.\nBookings essential\n\n  \n  \n
URL:https://www.frenchalacarte.com.au/event/pronunciation-advanced-sounds/
LOCATION:Pymble Golf Club – Boardroom\, 10 Cowan Rd\, St. Ives\, NSW\, 2075\, Australia
CATEGORIES:Holiday Workshops,Themed
ATTACH;FMTTYPE=image/png:https://www.frenchalacarte.com.au/wp-content/uploads/2018/11/french-pronunciation.png
GEO:-33.7304185;151.156397
X-APPLE-STRUCTURED-LOCATION;VALUE=URI;X-ADDRESS=Pymble Golf Club – Boardroom 10 Cowan Rd St. Ives NSW 2075 Australia;X-APPLE-RADIUS=500;X-TITLE=10 Cowan Rd:geo:151.156397,-33.7304185
END:VEVENT
BEGIN:VEVENT
DTSTART;TZID=Australia/Sydney:20200129T093000
DTEND;TZID=Australia/Sydney:20200129T163000
DTSTAMP:20200229T125904
CREATED:20181110T041210Z
LAST-MODIFIED:20200117T073130Z
UID:11047-1580290200-1580315400@www.frenchalacarte.com.au
SUMMARY:Elementary Refresher
DESCRIPTION:PLEASE NOTE – THERE HAS BEEN A CHANGE IN DATES – THIS WORKSHOP WILL TAKE PLACE ON WEDNESDAY 29.01.20 \nThis workshop consists of a variety of practical activities designed specifically for your level.  \nYou will be working in small groups at your own pace with the help of a tailor-made workbook and under direct supervision of a qualified teacher.  \nThe teacher will give each group individual attention\, while coordinating the activities and providing explanations.  \nPlease note this workshop is not suitable for total beginners. \nMinimum 10\, maximum 16 students per class. \nPrice:  $149 \nWhat’s included: \n\nCoffee break in the morning with a hot drink supplied by the Pymble Golf Club\n1-hour lunch break with a light meal supplied by the club\nTailored workbook\nA French à la Carte notepad and pen\n\n  \n
URL:https://www.frenchalacarte.com.au/event/elementary-refresher/
LOCATION:Pymble Golf Club – Kel Nagle Room\, Australia
CATEGORIES:Holiday Workshops,Refreshers
ATTACH;FMTTYPE=image/png:https://www.frenchalacarte.com.au/wp-content/uploads/2018/11/elementary-refresher.png
END:VEVENT
BEGIN:VEVENT
DTSTART;TZID=Australia/Sydney:20200129T133000
DTEND;TZID=Australia/Sydney:20200129T163000
DTSTAMP:20200229T125904
CREATED:20181110T041939Z
LAST-MODIFIED:20200117T073048Z
UID:11056-1580304600-1580315400@www.frenchalacarte.com.au
SUMMARY:Comprehension of Spoken French
DESCRIPTION:Do you want to be more confident speaking and understanding French when you travel to Francophone countries?  \nThe teacher will place you in various real-life scenarios where you need to work out the most efficient way to communicate.  \n\nPrice: $60\, including handouts.\nLevels: Intermediate – Advanced.\nMinimum 8\, maximum 12 students per class.\nBookings essential\n\n
URL:https://www.frenchalacarte.com.au/event/comprehension-of-spoken-french/
LOCATION:Pymble Golf Club – Boardroom\, 10 Cowan Rd\, St. Ives\, NSW\, 2075\, Australia
CATEGORIES:Holiday Workshops,Themed
ATTACH;FMTTYPE=image/png:https://www.frenchalacarte.com.au/wp-content/uploads/2018/11/parlez-avec-confiance.png
GEO:-33.7304185;151.156397
X-APPLE-STRUCTURED-LOCATION;VALUE=URI;X-ADDRESS=Pymble Golf Club – Boardroom 10 Cowan Rd St. Ives NSW 2075 Australia;X-APPLE-RADIUS=500;X-TITLE=10 Cowan Rd:geo:151.156397,-33.7304185
END:VEVENT
BEGIN:VEVENT
DTSTART;TZID=Australia/Sydney:20200130T093000
DTEND;TZID=Australia/Sydney:20200130T163000
DTSTAMP:20200229T125904
CREATED:20181110T032237Z
LAST-MODIFIED:20200124T035646Z
UID:11038-1580376600-1580401800@www.frenchalacarte.com.au
SUMMARY:Intermediate Refresher - SOLD OUT!
DESCRIPTION:This workshop consists of a variety of practical activities designed specifically for your level.  \nYou will be working in small groups at your own pace with the help of a tailor-made workbook and under direct supervision of a qualified teacher.  \nThe teacher will give each group individual attention\, while coordinating the activities and providing explanations.  \nMinimum 10\, maximum 16 students per class. \nPrice:  $149 \nWhat’s included: \n\nCoffee break in the morning with a hot drink supplied by the Pymble Golf Club\n1-hour lunch break with a light meal supplied by the club\nTailored workbook\nA French à la Carte notepad and pen\n\nSorry\, this workshop has sold out. You can contact us to be placed on the waitlist in case of a cancellation. \n
URL:https://www.frenchalacarte.com.au/event/intermediate-refresher/
LOCATION:Pymble Golf Club – Kel Nagle Room\, Australia
CATEGORIES:Holiday Workshops,Refreshers
ATTACH;FMTTYPE=image/png:https://www.frenchalacarte.com.au/wp-content/uploads/2018/11/intermdiary.png
END:VEVENT
BEGIN:VEVENT
DTSTART;TZID=Australia/Sydney:20200130T093000
DTEND;TZID=Australia/Sydney:20200130T123000
DTSTAMP:20200229T125904
CREATED:20181110T041906Z
LAST-MODIFIED:20200117T073004Z
UID:11062-1580376600-1580387400@www.frenchalacarte.com.au
SUMMARY:Subjunctive from A-Z
DESCRIPTION:La bête noire de la grammaire française! \nThe teacher will use a student-friendly approach which will clarify all aspects of this major grammar mode.  \n\nPrice: $60\, including handouts.\nLevels: Intermediate to Advanced.\nMinimum 8\, maximum 12 students per class.\nBookings essential\n\n
URL:https://www.frenchalacarte.com.au/event/subjunctive-a-to-z/
LOCATION:Pymble Golf Club – Boardroom\, 10 Cowan Rd\, St. Ives\, NSW\, 2075\, Australia
CATEGORIES:Holiday Workshops,Themed
ATTACH;FMTTYPE=image/png:https://www.frenchalacarte.com.au/wp-content/uploads/2018/11/subjonctif.png
GEO:-33.7304185;151.156397
X-APPLE-STRUCTURED-LOCATION;VALUE=URI;X-ADDRESS=Pymble Golf Club – Boardroom 10 Cowan Rd St. Ives NSW 2075 Australia;X-APPLE-RADIUS=500;X-TITLE=10 Cowan Rd:geo:151.156397,-33.7304185
END:VEVENT
BEGIN:VEVENT
DTSTART;TZID=Australia/Sydney:20200131T093000
DTEND;TZID=Australia/Sydney:20200131T163000
DTSTAMP:20200229T125904
CREATED:20181110T041055Z
LAST-MODIFIED:20200117T072801Z
UID:11042-1580463000-1580488200@www.frenchalacarte.com.au
SUMMARY:Advanced Refresher
DESCRIPTION:This workshop consists of a variety of practical activities designed specifically for your level.  \nYou will be working in small groups at your own pace with the help of a tailor-made workbook and under direct supervision of a qualified teacher.  \nThe teacher will give each group individual attention\, while coordinating the activities and providing explanations.  \nMinimum 10\, maximum 16 students per class. \nPrice:  $149 \nWhat’s included: \n\nCoffee break in the morning with a hot drink supplied by the Pymble Golf Club\n1-hour lunch break with a light meal supplied by the club\nTailored workbook\nA French à la Carte notepad and pen\n\n
URL:https://www.frenchalacarte.com.au/event/advanced-refresher/
LOCATION:Pymble Golf Club – Kel Nagle Room\, Australia
CATEGORIES:Holiday Workshops,Refreshers
ATTACH;FMTTYPE=image/png:https://www.frenchalacarte.com.au/wp-content/uploads/2018/11/advanced-refresher.png
END:VEVENT
END:VCALENDAR